BEGIN:VCALENDAR
PRODID:-//PUBBLE//agenda//NL
VERSION:2.0
METHOD:PUBLISH
BEGIN:VEVENT
DTSTART:20260416T113000Z
DTEND:20260416T130000Z
DTSTAMP:20260419T123316Z
UID:46f22bcb-e3a2-4a62-ab0b-28498696616d
CREATED:20260419T123316Z
NAME:Kunstkijkworkshop Art Based Learning kliknieuwsoss.nl
X-WR-CALNAME:Kunstkijkworkshop Art Based Learning
X-ALT-DESC;FMTTYPE=text/html:<a href='/agenda/2026/4/16/kunstkijkworkshop-art-based-learning-249964'>/agenda/2026/4/16/kunstkijkworkshop-art-based-learning-249964</a> || <p><strong>Anders kunst kijken</strong></p><p>Art Based Learning (ABL) is een andere manier van kijken naar kunst waarbij je reflecteert op kunst, jezelf en je omgeving. De creativiteit in het denken krijgt hiermee een boost.</p><p>We hebben allemaal levensvragen die vaker dan één keer opduiken in onze gedachten. Ga met jouw vraag aan de slag tijdens de workshop Art Based Learning. Je leert de kunst van slow-looking en gebruikt je fantasie. Met nieuwe creatieve inzichten krijg je misschien wel een onverwacht antwoord!&nbsp;</p><p>Deze workshop doe je onder begeleiding van onze getrainde ABL-vrijwilligers.&nbsp;</p><p><strong>Wat ga je doen?&nbsp;</strong></p><p>Aan de hand van kunst denk je na over datgene dat jou bezighoudt. Je duikt in drie stappen individueel in één kunstwerk die je zelf uitkiest en leert daarbij associatief kijken. Aan het eind van de sessie is er mogelijkheid je ervaringen te delen met de andere deelnemers. De ABL-workshops worden aangeboden op elke eerste zondag en derde donderdag van de maand.&nbsp;</p><p>Entree: €7,50 (+ geldig toegangsbewijs).</p><p><strong>Doe je mee?&nbsp;</strong></p><p>Meld je dan nu aan via info@museumjancunen.nl en vermeld naam, telefoonnummer en de datum waarop je wilt deelnemen. &nbsp;</p><p>Je kunt ook deelnemen op de volgende data:&nbsp;</p><p>Zondag 3 mei&nbsp;</p><p>Donderdag 21 mei</p><p>Zondag 7 juni&nbsp;</p><p>Zondag 5 juli</p><p>Donderdag 16 juli</p><p>Zondag 2 augustus</p><p>Donderdag 20 augustus</p><p>Wil je een ABL-workshop op maat boeken voor jouw groep? Neem dan contact op met onze educatiemedewerker Janneke van Wolfswinkel via hetzelfde e-mailadres.&nbsp;</p><p><em>Museum Jan Cunen is het enige museum in Nederland dat deze workshop structureel aanbiedt. Grijp deze kans om op een nieuwe manier naar kunst te kijken en ontdek wat Art Based Learning voor jou kan betekenen.</em></p>
DESCRIPTION:<a href='/agenda/2026/4/16/kunstkijkworkshop-art-based-learning-249964'>/agenda/2026/4/16/kunstkijkworkshop-art-based-learning-249964</a> || <p><strong>Anders kunst kijken</strong></p><p>Art Based Learning (ABL) is een andere manier van kijken naar kunst waarbij je reflecteert op kunst, jezelf en je omgeving. De creativiteit in het denken krijgt hiermee een boost.</p><p>We hebben allemaal levensvragen die vaker dan één keer opduiken in onze gedachten. Ga met jouw vraag aan de slag tijdens de workshop Art Based Learning. Je leert de kunst van slow-looking en gebruikt je fantasie. Met nieuwe creatieve inzichten krijg je misschien wel een onverwacht antwoord!&nbsp;</p><p>Deze workshop doe je onder begeleiding van onze getrainde ABL-vrijwilligers.&nbsp;</p><p><strong>Wat ga je doen?&nbsp;</strong></p><p>Aan de hand van kunst denk je na over datgene dat jou bezighoudt. Je duikt in drie stappen individueel in één kunstwerk die je zelf uitkiest en leert daarbij associatief kijken. Aan het eind van de sessie is er mogelijkheid je ervaringen te delen met de andere deelnemers. De ABL-workshops worden aangeboden op elke eerste zondag en derde donderdag van de maand.&nbsp;</p><p>Entree: €7,50 (+ geldig toegangsbewijs).</p><p><strong>Doe je mee?&nbsp;</strong></p><p>Meld je dan nu aan via info@museumjancunen.nl en vermeld naam, telefoonnummer en de datum waarop je wilt deelnemen. &nbsp;</p><p>Je kunt ook deelnemen op de volgende data:&nbsp;</p><p>Zondag 3 mei&nbsp;</p><p>Donderdag 21 mei</p><p>Zondag 7 juni&nbsp;</p><p>Zondag 5 juli</p><p>Donderdag 16 juli</p><p>Zondag 2 augustus</p><p>Donderdag 20 augustus</p><p>Wil je een ABL-workshop op maat boeken voor jouw groep? Neem dan contact op met onze educatiemedewerker Janneke van Wolfswinkel via hetzelfde e-mailadres.&nbsp;</p><p><em>Museum Jan Cunen is het enige museum in Nederland dat deze workshop structureel aanbiedt. Grijp deze kans om op een nieuwe manier naar kunst te kijken en ontdek wat Art Based Learning voor jou kan betekenen.</em></p>
LAST-MODIFIED:20260419T123316Z
LOCATION: Museum Jan Cunen  | Molenstraat 65 Oss
SEQUENCE:0
STATUS:CONFIRMED
SUMMARY:Kunstkijkworkshop Art Based Learning
TRANSP:OPAQUE
END:VEVENT
END:VCALENDAR
