BEGIN:VCALENDAR
PRODID:-//PUBBLE//agenda//NL
VERSION:2.0
METHOD:PUBLISH
BEGIN:VEVENT
DTSTART:20260426T070000Z
DTEND:20260426T133000Z
DTSTAMP:20260420T132614Z
UID:68aea9ef-df21-49d7-b0d5-2126fe3d48b9
CREATED:20260420T132614Z
NAME:Kofferbakverkoop kliknieuwsoss.nl
X-WR-CALNAME:Kofferbakverkoop
X-ALT-DESC;FMTTYPE=text/html:<a href='/agenda/2026/4/26/kofferbakverkoop-250913'>/agenda/2026/4/26/kofferbakverkoop-250913</a> || <p>Grote kofferbakverkoop in Herpen op zondag 26 april a.s.</p><p>bij voetbalveld De Brug /nieuw Friethuys en restaurant SEBAS te Herpen aan de St. Sebastianusstraat 2 in Herpen &nbsp;er zijn grote grondplaatsen te huur prijs € 14,-- euro. Er zijn ook enkele kramen te huur voor de prijs van € 27.50 Mocht u een extra tafel van 185x70 bij willen huren dat kan de prijs hiervan is € 5,-- per tafel.&nbsp;</p><p>Er worden alleen tweedehandse spullen of ambachtelijke artikelen aangeboden. Het aanbod is groot van boeken, huisraad, antiek, gereedschap, kleding, teveel om op te noemen, dat moet je gewoon gezien hebben. Ook voor verzamelaars is deze kofferbakverkoop uniek.&nbsp;</p><p>Mooi gelegenheid om uw zolder een keer op te ruimen en overtollige spullen een 2de kans te geven waar bezoekers naar op zoek zijn.&nbsp;</p><p>De markt voor bezoekers is open van 9.00-15.30 uur, entree bedraagt &nbsp;€ 2,-- euro per persoon,&nbsp;</p><p>kinderen tot 12 jaar gratis entree.</p><p>Gratis parkeren op eigen parkeerterrein.&nbsp;</p><p>Er is een gezellig vernieuwde terras aanwezig waar u even uit kan rusten en om eventueel een koffie/thee te drinken of een hapje te eten en even gezellig bij praten.</p><p>&nbsp; &nbsp; &nbsp; &nbsp; &nbsp; &nbsp; &nbsp; &nbsp; &nbsp; &nbsp; &nbsp; &nbsp; &nbsp; &nbsp; &nbsp; &nbsp; &nbsp; &nbsp; &nbsp;markten zijn: 31 mei, 28 juni -26 juli – 30 augustus – 20 september&nbsp;</p><p>Voor info kunt u contact op nemen met telefoonnummer 06-30974367</p>
DESCRIPTION:<a href='/agenda/2026/4/26/kofferbakverkoop-250913'>/agenda/2026/4/26/kofferbakverkoop-250913</a> || <p>Grote kofferbakverkoop in Herpen op zondag 26 april a.s.</p><p>bij voetbalveld De Brug /nieuw Friethuys en restaurant SEBAS te Herpen aan de St. Sebastianusstraat 2 in Herpen &nbsp;er zijn grote grondplaatsen te huur prijs € 14,-- euro. Er zijn ook enkele kramen te huur voor de prijs van € 27.50 Mocht u een extra tafel van 185x70 bij willen huren dat kan de prijs hiervan is € 5,-- per tafel.&nbsp;</p><p>Er worden alleen tweedehandse spullen of ambachtelijke artikelen aangeboden. Het aanbod is groot van boeken, huisraad, antiek, gereedschap, kleding, teveel om op te noemen, dat moet je gewoon gezien hebben. Ook voor verzamelaars is deze kofferbakverkoop uniek.&nbsp;</p><p>Mooi gelegenheid om uw zolder een keer op te ruimen en overtollige spullen een 2de kans te geven waar bezoekers naar op zoek zijn.&nbsp;</p><p>De markt voor bezoekers is open van 9.00-15.30 uur, entree bedraagt &nbsp;€ 2,-- euro per persoon,&nbsp;</p><p>kinderen tot 12 jaar gratis entree.</p><p>Gratis parkeren op eigen parkeerterrein.&nbsp;</p><p>Er is een gezellig vernieuwde terras aanwezig waar u even uit kan rusten en om eventueel een koffie/thee te drinken of een hapje te eten en even gezellig bij praten.</p><p>&nbsp; &nbsp; &nbsp; &nbsp; &nbsp; &nbsp; &nbsp; &nbsp; &nbsp; &nbsp; &nbsp; &nbsp; &nbsp; &nbsp; &nbsp; &nbsp; &nbsp; &nbsp; &nbsp;markten zijn: 31 mei, 28 juni -26 juli – 30 augustus – 20 september&nbsp;</p><p>Voor info kunt u contact op nemen met telefoonnummer 06-30974367</p>
LAST-MODIFIED:20260420T132614Z
LOCATION: Voetbalveld de Brug  | St. Sebastianusstraat 2 Herpen
SEQUENCE:0
STATUS:CONFIRMED
SUMMARY:Kofferbakverkoop
TRANSP:OPAQUE
END:VEVENT
END:VCALENDAR
